BEGIN:VCALENDAR
VERSION:2.0
PRODID:-//Tukios.com/
BEGIN:VEVENT
UID:49d9a866-abea-4b11-92ed-1f51df31b1ea@www.jimerson-lipsey.com
DTSTAMP:20260420T001218Z
DTSTART:20260424T150000Z
DTEND:20260424T160000Z
SUMMARY:Graveside Service
DESCRIPTION:
URL:https://www.jimerson-lipsey.com/obituaries/james-brady
LOCATION:Long Branch Cemetery County Road 161  Long Branch  75669
GEO:32.070566;-94.5521387
END:VEVENT
END:VCALENDAR