BEGIN:VCALENDAR
VERSION:2.0
PRODID:-//Tukios.com/
BEGIN:VEVENT
UID:b5ebefb9-be43-4daa-98be-cce9a3e372a3@www.jimerson-lipsey.com
DTSTAMP:20260420T000506Z
DTSTART:20260423T220000Z
DTEND:20260424T000000Z
SUMMARY:Visitation
DESCRIPTION:
URL:https://www.jimerson-lipsey.com/obituaries/james-brady
LOCATION: 1131 State Highway 149 Post Office Box 1136 Carthage TX 75633
GEO:32.1763909;-94.3653871
END:VEVENT
END:VCALENDAR